BEGIN:VCALENDAR
VERSION:2.0
PRODID:-//Tukios.com/
BEGIN:VEVENT
UID:a20f0253-8c69-4ba9-aeff-91aec3bb7e0f@www.flammfh.com
DTSTAMP:20260423T200420Z
DTSTART:20260427T170000Z
DTEND:20260427T180000Z
SUMMARY:Funeral Service
DESCRIPTION:
URL:https://www.flammfh.com/obituaries/phyllis-susie-bowman
LOCATION: 3958 West 2000 South  Rexburg ID 83440
GEO:43.7978127;-111.8568428
END:VEVENT
END:VCALENDAR