BEGIN:VCALENDAR
VERSION:2.0
PRODID:-//Tukios.com/
BEGIN:VEVENT
UID:7902f5b5-b001-4c46-abca-984fc33b550d@www.flammfh.com
DTSTAMP:20260423T195940Z
DTSTART:20260427T160000Z
DTEND:20260427T164500Z
SUMMARY:Visitation
DESCRIPTION:
URL:https://www.flammfh.com/obituaries/phyllis-susie-bowman
LOCATION: 3958 West 2000 South  Rexburg ID 83440
GEO:43.7978127;-111.8568428
END:VEVENT
END:VCALENDAR